BEGIN:VCALENDAR
VERSION:2.0
PRODID:-//Carpensud - ECPv6.3.1//NONSGML v1.0//EN
CALSCALE:GREGORIAN
METHOD:PUBLISH
X-ORIGINAL-URL:https://www.carpensud.com
X-WR-CALDESC:évènements pour Carpensud
REFRESH-INTERVAL;VALUE=DURATION:PT1H
X-Robots-Tag:noindex
X-PUBLISHED-TTL:PT1H
BEGIN:VTIMEZONE
TZID:Europe/Paris
BEGIN:DAYLIGHT
TZOFFSETFROM:+0100
TZOFFSETTO:+0200
TZNAME:CEST
DTSTART:20230326T010000
END:DAYLIGHT
BEGIN:STANDARD
TZOFFSETFROM:+0200
TZOFFSETTO:+0100
TZNAME:CET
DTSTART:20231029T010000
END:STANDARD
END:VTIMEZONE
BEGIN:VEVENT
DTSTART;TZID=Europe/Paris:20231213T090000
DTEND;TZID=Europe/Paris:20231213T110000
DTSTAMP:20260422T102550
CREATED:20231019T122411Z
LAST-MODIFIED:20231019T123024Z
UID:11980-1702458000-1702465200@www.carpensud.com
SUMMARY:VISITE D'ENTREPRISE - 13 DÉCEMBRE
DESCRIPTION:Située à Beaumes-de-Venise\, cette coopérative agricole innovante propose des produits AOP\, Bio\, respectueux de l’environnement. \nLeur magasin offre des produits locaux et des spécialités provençales. Vous pouvez visiter le moulin ou faire des achats en ligne pour découvrir ces produits sains et écologiques. \nNous vous invitons à nous rejoindre le Mercredi 13 décembre à 9h00 pour une visite. \nUn bon moment de partage vous attend ! \nCet événement est ouvert à nos adhérents\, avec une entrée exceptionnelle offerte à ceux qui nous rejoignent pour la première fois.
URL:https://www.carpensud.com/event/visite-dentreprise-13-decembre/
LOCATION:LA BALMEENE\, 82 Av. Jules Ferry\, Beaumes-de-Venise\, 84190
CATEGORIES:Visite d'entreprise
ATTACH;FMTTYPE=image/png:https://www.carpensud.com/wp-content/uploads/2023/10/VISITE-DENTREPRISE-LA-BALMEENNE.png
END:VEVENT
END:VCALENDAR